BEGIN:VCALENDAR
VERSION:2.0
PRODID:-//SC Bottrop e.V - ECPv6.8.0//NONSGML v1.0//EN
CALSCALE:GREGORIAN
METHOD:PUBLISH
X-ORIGINAL-URL:https://www.scbottrop.de
X-WR-CALDESC:Veranstaltungen für SC Bottrop e.V
REFRESH-INTERVAL;VALUE=DURATION:PT1H
X-Robots-Tag:noindex
X-PUBLISHED-TTL:PT1H
BEGIN:VTIMEZONE
TZID:Europe/Helsinki
BEGIN:DAYLIGHT
TZOFFSETFROM:+0200
TZOFFSETTO:+0300
TZNAME:EEST
DTSTART:20250330T010000
END:DAYLIGHT
BEGIN:STANDARD
TZOFFSETFROM:+0300
TZOFFSETTO:+0200
TZNAME:EET
DTSTART:20251026T010000
END:STANDARD
END:VTIMEZONE
BEGIN:VEVENT
DTSTART;TZID=Europe/Helsinki:20251107T190000
DTEND;TZID=Europe/Helsinki:20251107T190000
DTSTAMP:20260422T232104
CREATED:20250909T101155Z
LAST-MODIFIED:20250909T101244Z
UID:14135-1762542000-1762542000@www.scbottrop.de
SUMMARY:Jahreshauptversammlung 2025
DESCRIPTION:
URL:https://www.scbottrop.de/event/jahreshauptversammlung-2025/
LOCATION:Hotel-Restaurant Große-Wilde\, Gladbecker Str. 207\, Bottrop\, 46240
END:VEVENT
BEGIN:VEVENT
DTSTART;VALUE=DATE:20251126
DTEND;VALUE=DATE:20251215
DTSTAMP:20260422T232104
CREATED:20251028T104413Z
LAST-MODIFIED:20251028T104413Z
UID:14278-1764115200-1765756799@www.scbottrop.de
SUMMARY:Handball WM der Frauen in Deutschland und den Niederlanden
DESCRIPTION:
URL:https://www.scbottrop.de/event/handball-wm-der-frauen-in-deutschland-und-den-niederlanden/
END:VEVENT
END:VCALENDAR